BEGIN:VCALENDAR
VERSION:2.0
PRODID:-//Tukios.com/
BEGIN:VEVENT
UID:ec7affd2-8340-4c8d-b18b-c3e129d24f9f@www.mccaffertysweeneyfuneralhome.com
DTSTAMP:20260421T215618Z
DTSTART:20260428T150000Z
DTEND:20260428T160000Z
SUMMARY:Funeral Service
DESCRIPTION:
URL:https://www.mccaffertysweeneyfuneralhome.com/obituaries/elfrieda-davis
LOCATION:St. Timothy Lutheran Church 7965 Fillmore Street  Philadelphia 
	PA 19111
GEO:40.0783046;-75.0871107
END:VEVENT
END:VCALENDAR