BEGIN:VCALENDAR
VERSION:2.0
PRODID:-//Tukios.com/
BEGIN:VEVENT
UID:ea74731e-d8ab-42a7-8f4d-c98db61594dc@www.mccaffertysweeneyfuneralhome.com
DTSTAMP:20260421T220135Z
DTSTART:20260428T170000Z
DTEND:20260428T180000Z
SUMMARY:Interment
DESCRIPTION:
URL:https://www.mccaffertysweeneyfuneralhome.com/obituaries/elfrieda-davis
LOCATION:Washington Crossing National Cemetery 830 Highland Road  Newtown 
	PA 18940
GEO:40.2649466;-74.9046413
END:VEVENT
END:VCALENDAR