BEGIN:VCALENDAR
VERSION:2.0
PRODID:-//Tukios.com/
BEGIN:VEVENT
UID:4f7ffea4-df62-49cc-b440-c9f5da71240c@www.mccaffertysweeneyfuneralhome.com
DTSTAMP:20260421T215828Z
DTSTART:20260428T140000Z
DTEND:20260428T150000Z
SUMMARY:Viewing
DESCRIPTION:
URL:https://www.mccaffertysweeneyfuneralhome.com/obituaries/elfrieda-davis
LOCATION:St. Timothy Lutheran Church 7965 Fillmore Street  Philadelphia 
	PA 19111
GEO:40.0783046;-75.0871107
END:VEVENT
END:VCALENDAR